BEGIN:VCALENDAR
PRODID:-//Riksbanken//riksbanken.se//SV
VERSION:2.0
BEGIN:VEVENT
DTSTART:20181030T100000Z
DTSTAMP:20260423T104918Z
UID:bf086d5225ab42d89606db8bd518d632
CREATED:20260423T104918Z
DESCRIPTION:Optimal simple mandates for monetary policy: Do banks matter?
LAST-MODIFIED:20260423T104918Z
LOCATION:
SEQUENCE:0
STATUS:CONFIRMED
SUMMARY:Lien Laureys (Bank of England)
TRANSP:OPAQUE
END:VEVENT
END:VCALENDAR
