BEGIN:VCALENDAR
PRODID:-//Riksbanken//riksbanken.se//SV
VERSION:2.0
BEGIN:VEVENT
DTSTART:20181106T100000Z
DTSTAMP:20260423T104958Z
UID:de7ce472f42c4f8cb9fc9297bb64fcd6
CREATED:20260423T104958Z
DESCRIPTION:Demographic Trends and the Real Interest Rate
LAST-MODIFIED:20260423T104958Z
LOCATION:
SEQUENCE:0
STATUS:CONFIRMED
SUMMARY:Rana Sajedi, Bank of England
TRANSP:OPAQUE
END:VEVENT
END:VCALENDAR
