BEGIN:VCALENDAR
PRODID:-//Riksbanken//riksbanken.se//SV
VERSION:2.0
BEGIN:VEVENT
DTSTART:20181114T100000Z
DTSTAMP:20260423T105002Z
UID:79f9a9d95df449f099bae5478845c385
CREATED:20260423T105002Z
DESCRIPTION:Bank Capital Redux: Solvency, Liquidity, and Crisis
LAST-MODIFIED:20260423T105002Z
LOCATION:
SEQUENCE:0
STATUS:CONFIRMED
SUMMARY:Oscar Jorda, Federal Reserve Bank of San Francisco
TRANSP:OPAQUE
END:VEVENT
END:VCALENDAR
