BEGIN:VCALENDAR
PRODID:-//Riksbanken//riksbanken.se//SV
VERSION:2.0
BEGIN:VEVENT
DTSTART:20181127T100000Z
DTSTAMP:20260423T105039Z
UID:122be1491a2449678941a43427d4dff9
CREATED:20260423T105039Z
DESCRIPTION:TBA
LAST-MODIFIED:20260423T105039Z
LOCATION:
SEQUENCE:0
STATUS:CONFIRMED
SUMMARY:Mario Pietrunti and Federico Maria Signoretti, Banca d’Italia
TRANSP:OPAQUE
END:VEVENT
END:VCALENDAR
