BEGIN:VCALENDAR
PRODID:-//Riksbanken//riksbanken.se//SV
VERSION:2.0
BEGIN:VEVENT
DTSTART:20181204T100000Z
DTSTAMP:20260423T133523Z
UID:bfcd66d44ab44764ab1aad4f4d1d3062
CREATED:20260423T133523Z
DESCRIPTION:TBA
LAST-MODIFIED:20260423T133523Z
LOCATION:
SEQUENCE:0
STATUS:CONFIRMED
SUMMARY:Kristoffer Nimark, Cornell University
TRANSP:OPAQUE
END:VEVENT
END:VCALENDAR
