BEGIN:VCALENDAR
PRODID:-//Riksbanken//riksbanken.se//SV
VERSION:2.0
BEGIN:VEVENT
DTSTART:20190514T090000Z
DTSTAMP:20260423T104917Z
UID:210cc6a5048f499285bf1e505f2b01da
CREATED:20260423T104917Z
DESCRIPTION:TBA
LAST-MODIFIED:20260423T104917Z
LOCATION:
SEQUENCE:0
STATUS:CONFIRMED
SUMMARY:Min Wei, Federal Reserve Bank
TRANSP:OPAQUE
END:VEVENT
END:VCALENDAR
