BEGIN:VCALENDAR
PRODID:-//Riksbanken//riksbanken.se//SV
VERSION:2.0
BEGIN:VEVENT
DTSTART:20190507T090000Z
DTSTAMP:20260425T161407Z
UID:942d5ca0946d484dab36d6d98f9ba413
CREATED:20260425T161407Z
DESCRIPTION:Risky capital of emerging markets
LAST-MODIFIED:20260425T161407Z
LOCATION:
SEQUENCE:0
STATUS:CONFIRMED
SUMMARY:Espen Henriksen, BI Norwegian School of Business 
TRANSP:OPAQUE
END:VEVENT
END:VCALENDAR
