BEGIN:VCALENDAR
PRODID:-//Riksbanken//riksbanken.se//SV
VERSION:2.0
BEGIN:VEVENT
DTSTART:20190513T110000Z
DTSTAMP:20260425T161742Z
UID:89e2bde8e1d44d69a5f436734518609d
CREATED:20260425T161742Z
DESCRIPTION:Microeconomic Heterogeneity and Macroeconomic Shocks
LAST-MODIFIED:20260425T161742Z
LOCATION:
SEQUENCE:0
STATUS:CONFIRMED
SUMMARY:Gianluca Violante, Princeton University 
TRANSP:OPAQUE
END:VEVENT
END:VCALENDAR
