BEGIN:VCALENDAR
PRODID:-//Riksbanken//riksbanken.se//SV
VERSION:2.0
BEGIN:VEVENT
DTSTART:20190521T090000Z
DTSTAMP:20260425T161401Z
UID:a37f1c08cc1347e0b1b06d161e141c2f
CREATED:20260425T161401Z
DESCRIPTION:Understanding International Long-Term Interest Rate Comovement
LAST-MODIFIED:20260425T161401Z
LOCATION:
SEQUENCE:0
STATUS:CONFIRMED
SUMMARY:Ferre De Graeve, KU Leuven
TRANSP:OPAQUE
END:VEVENT
END:VCALENDAR
