BEGIN:VCALENDAR
PRODID:-//Riksbanken//riksbanken.se//SV
VERSION:2.0
BEGIN:VEVENT
DTSTART:20190527T090000Z
DTSTAMP:20260425T161545Z
UID:a2f4fa51fa8041cc896de659aaaac14d
CREATED:20260425T161545Z
DESCRIPTION:Bank Risk Taking and Twin Defaults
LAST-MODIFIED:20260425T161545Z
LOCATION:
SEQUENCE:0
STATUS:CONFIRMED
SUMMARY:Caterina Mendicino, ECB
TRANSP:OPAQUE
END:VEVENT
END:VCALENDAR
