BEGIN:VCALENDAR
PRODID:-//Riksbanken//riksbanken.se//SV
VERSION:2.0
BEGIN:VEVENT
DTSTART:20190625T090000Z
DTSTAMP:20260423T133445Z
UID:a3da91f70a2c49dc82e9a04595a9a0d4
CREATED:20260423T133445Z
DESCRIPTION:Recognizing the value of the central bank as a liquidity backstop
LAST-MODIFIED:20260423T133445Z
LOCATION:
SEQUENCE:0
STATUS:CONFIRMED
SUMMARY:Bill Nelson, BPI
TRANSP:OPAQUE
END:VEVENT
END:VCALENDAR
