BEGIN:VCALENDAR
PRODID:-//Riksbanken//riksbanken.se//SV
VERSION:2.0
BEGIN:VEVENT
DTSTART:20190813T090000Z
DTSTAMP:20260423T104841Z
UID:138e2a12106f49958eec9cde37c9fe57
CREATED:20260423T104841Z
DESCRIPTION:Monetary Policy, Labor Market Inequality and the Nature of Work
LAST-MODIFIED:20260423T104841Z
LOCATION:
SEQUENCE:0
STATUS:CONFIRMED
SUMMARY:Greg Kaplan, University of Chicago
TRANSP:OPAQUE
END:VEVENT
END:VCALENDAR
