BEGIN:VCALENDAR
PRODID:-//Riksbanken//riksbanken.se//SV
VERSION:2.0
BEGIN:VEVENT
DTSTART:20190820T090000Z
DTSTAMP:20260423T104708Z
UID:88962820a26d4b22845ddce34e52a1fb
CREATED:20260423T104708Z
DESCRIPTION:FAQs: How  to  I  extract  the  output  gap?  Are  gaps  and  transitory  fluctuations  the  same?
LAST-MODIFIED:20260423T104708Z
LOCATION:
SEQUENCE:0
STATUS:CONFIRMED
SUMMARY:Fabio Canova, BI
TRANSP:OPAQUE
END:VEVENT
END:VCALENDAR
