BEGIN:VCALENDAR
PRODID:-//Riksbanken//riksbanken.se//SV
VERSION:2.0
BEGIN:VEVENT
DTSTART:20190827T090000Z
DTSTAMP:20260423T104807Z
UID:98f7f6837f1e465b90e9547b8c31ac1b
CREATED:20260423T104807Z
DESCRIPTION:On Money as a Medium of Exchange in Near-Cashless Credit Economies
LAST-MODIFIED:20260423T104807Z
LOCATION:
SEQUENCE:0
STATUS:CONFIRMED
SUMMARY:Shengxing Zhang, LSE
TRANSP:OPAQUE
END:VEVENT
END:VCALENDAR
