BEGIN:VCALENDAR
PRODID:-//Riksbanken//riksbanken.se//SV
VERSION:2.0
BEGIN:VEVENT
DTSTART:20190918T090000Z
DTSTAMP:20260426T013522Z
UID:303c104172034e729904f10d76c4b572
CREATED:20260426T013522Z
DESCRIPTION:An Empirical Measure of Market Sentiment
LAST-MODIFIED:20260426T013522Z
LOCATION:
SEQUENCE:0
STATUS:CONFIRMED
SUMMARY:Ian Martin, London School of Economics
TRANSP:OPAQUE
END:VEVENT
END:VCALENDAR
