BEGIN:VCALENDAR
PRODID:-//Riksbanken//riksbanken.se//SV
VERSION:2.0
BEGIN:VEVENT
DTSTART:20200317T100000Z
DTSTAMP:20260423T105137Z
UID:031513bcb7ba4eaf9814e4c20b8279cd
CREATED:20260423T105137Z
DESCRIPTION:Did Durable Goods Producing States Suffer a Greater Great Depression
LAST-MODIFIED:20260423T105137Z
LOCATION:
SEQUENCE:0
STATUS:CONFIRMED
SUMMARY:Cancelled! Mario Crucini, Vanderbilt University 
TRANSP:OPAQUE
END:VEVENT
END:VCALENDAR
