BEGIN:VCALENDAR
PRODID:-//Riksbanken//riksbanken.se//SV
VERSION:2.0
BEGIN:VEVENT
DTSTART:20200318T100000Z
DTSTAMP:20260423T105137Z
UID:993f420d178543978d44c3366cea3867
CREATED:20260423T105137Z
DESCRIPTION:The Limits of onetary Economics: On Money as a Latent Medium of Exchange?
LAST-MODIFIED:20260423T105137Z
LOCATION:
SEQUENCE:0
STATUS:CONFIRMED
SUMMARY:Cancelled! Ricardo Lagos, New York University
TRANSP:OPAQUE
END:VEVENT
END:VCALENDAR
