BEGIN:VCALENDAR
PRODID:-//Riksbanken//riksbanken.se//SV
VERSION:2.0
BEGIN:VEVENT
DTSTART:20200324T100000Z
DTSTAMP:20260423T105038Z
UID:f0ce76440eb84c728f644a4c0e61c34d
CREATED:20260423T105038Z
DESCRIPTION:The Deposit Base, Multibanking, and Bank Stability
LAST-MODIFIED:20260423T105038Z
LOCATION:
SEQUENCE:0
STATUS:CONFIRMED
SUMMARY:Cancelled! Hendrik Hakenes, Universität Bonn
TRANSP:OPAQUE
END:VEVENT
END:VCALENDAR
