BEGIN:VCALENDAR
PRODID:-//Riksbanken//riksbanken.se//SV
VERSION:2.0
BEGIN:VEVENT
DTSTART:20200428T110000Z
DTSTAMP:20260423T210404Z
UID:90b89b21db3340adb0a3cca680fbfee0
CREATED:20260423T210404Z
DESCRIPTION:Sticky Wages on the Layoff Margin
LAST-MODIFIED:20260423T210404Z
LOCATION:
SEQUENCE:0
STATUS:CONFIRMED
SUMMARY:Web seminar with Pawel Krolikowski, Federal Reserve Bank of Cleveland 
TRANSP:OPAQUE
END:VEVENT
END:VCALENDAR
