BEGIN:VCALENDAR
PRODID:-//Riksbanken//riksbanken.se//SV
VERSION:2.0
BEGIN:VEVENT
DTSTART:20200505T140000Z
DTSTAMP:20260423T210429Z
UID:5066388890d64929a12adfb00d3a8395
CREATED:20260423T210429Z
DESCRIPTION:A Simple Planning Problem for COVID-19 Lockdown
LAST-MODIFIED:20260423T210429Z
LOCATION:
SEQUENCE:0
STATUS:CONFIRMED
SUMMARY:Web seminar with Francesco Lippi, LUISS University 
TRANSP:OPAQUE
END:VEVENT
END:VCALENDAR
