BEGIN:VCALENDAR
PRODID:-//Riksbanken//riksbanken.se//SV
VERSION:2.0
BEGIN:VEVENT
DTSTART:20200609T140000Z
DTSTAMP:20260423T171052Z
UID:c86a34306a71448880add9bd42a7fc76
CREATED:20260423T171052Z
DESCRIPTION:Variation of Coefficient: Monetary policy shocks with time-varying uncertainty
LAST-MODIFIED:20260423T171052Z
LOCATION:
SEQUENCE:0
STATUS:CONFIRMED
SUMMARY:Web seminar with Michael McMahon, Oxford University 
TRANSP:OPAQUE
END:VEVENT
END:VCALENDAR
