BEGIN:VCALENDAR
PRODID:-//Riksbanken//riksbanken.se//SV
VERSION:2.0
BEGIN:VEVENT
DTSTART:20200519T110000Z
DTSTAMP:20260423T210429Z
UID:6b27d4c6703e43099cbd443513c82a6b
CREATED:20260423T210429Z
DESCRIPTION:Fisherian Asset Price Deflation and the Zero Lower Bound
LAST-MODIFIED:20260423T210429Z
LOCATION:
SEQUENCE:0
STATUS:CONFIRMED
SUMMARY:Web seminar with Dan Cao, Georgetown University
TRANSP:OPAQUE
END:VEVENT
END:VCALENDAR
