BEGIN:VCALENDAR
PRODID:-//Riksbanken//riksbanken.se//SV
VERSION:2.0
BEGIN:VEVENT
DTSTART:20200525T140000Z
DTSTAMP:20260423T210441Z
UID:c614c334d390402b862dfa0e8d579b0c
CREATED:20260423T210441Z
DESCRIPTION:Pandemic, Shutdown and Consumer Spending: Lessons from Scandinavian Policy Responses to COVID-19
LAST-MODIFIED:20260423T210441Z
LOCATION:
SEQUENCE:0
STATUS:CONFIRMED
SUMMARY: Web seminar with Asger Lau Andersen, University of Copenhagen
TRANSP:OPAQUE
END:VEVENT
END:VCALENDAR
