BEGIN:VCALENDAR
PRODID:-//Riksbanken//riksbanken.se//SV
VERSION:2.0
BEGIN:VEVENT
DTSTART:20200527T140000Z
DTSTAMP:20260423T210441Z
UID:7d855e8e159a419cbeea4ce865ec6697
CREATED:20260423T210441Z
DESCRIPTION:Do Lockdowns Work? A Counterfactual for Sweden
LAST-MODIFIED:20260423T210441Z
LOCATION:
SEQUENCE:0
STATUS:CONFIRMED
SUMMARY:Web seminar with Gernot Müller, School of Business and Economics, University of Tübingen
TRANSP:OPAQUE
END:VEVENT
END:VCALENDAR
