BEGIN:VCALENDAR
PRODID:-//Riksbanken//riksbanken.se//SV
VERSION:2.0
BEGIN:VEVENT
DTSTART:20200602T090000Z
DTSTAMP:20260423T170828Z
UID:873c352791c448b8bfb76bad8599ef5e
CREATED:20260423T170828Z
DESCRIPTION:TBA
LAST-MODIFIED:20260423T170828Z
LOCATION:
SEQUENCE:0
STATUS:CONFIRMED
SUMMARY:Cancelled! Stephen Williamson, Western University
TRANSP:OPAQUE
END:VEVENT
END:VCALENDAR
