BEGIN:VCALENDAR
PRODID:-//Riksbanken//riksbanken.se//SV
VERSION:2.0
BEGIN:VEVENT
DTSTART:20200604T140000Z
DTSTAMP:20260423T170859Z
UID:89572d00d7b044fea81f9ce56bce8909
CREATED:20260423T170859Z
DESCRIPTION:The Effects of a Money-Financed Fiscal Stimulus
LAST-MODIFIED:20260423T170859Z
LOCATION:
SEQUENCE:0
STATUS:CONFIRMED
SUMMARY:Web seminar with Jordi Galì, CREI
TRANSP:OPAQUE
END:VEVENT
END:VCALENDAR
