BEGIN:VCALENDAR
PRODID:-//Riksbanken//riksbanken.se//SV
VERSION:2.0
BEGIN:VEVENT
DTSTART:20200616T090000Z
DTSTAMP:20260423T170946Z
UID:7f4d8688fcdb4783939ff7b2ecb2fb56
CREATED:20260423T170946Z
DESCRIPTION:TBA
LAST-MODIFIED:20260423T170946Z
LOCATION:
SEQUENCE:0
STATUS:CONFIRMED
SUMMARY:Cancelled! Juan Pablo Nicolini, Federal Reserve Bank of Minneapolis
TRANSP:OPAQUE
END:VEVENT
END:VCALENDAR
