BEGIN:VCALENDAR
PRODID:-//Riksbanken//riksbanken.se//SV
VERSION:2.0
BEGIN:VEVENT
DTSTART:20200623T090000Z
DTSTAMP:20260423T171011Z
UID:3cbba12fca084961b58b631df4d2bbca
CREATED:20260423T171011Z
DESCRIPTION:TBA
LAST-MODIFIED:20260423T171011Z
LOCATION:
SEQUENCE:0
STATUS:CONFIRMED
SUMMARY:Cancelled! James Coyne, University of California, Davis
TRANSP:OPAQUE
END:VEVENT
END:VCALENDAR
