BEGIN:VCALENDAR
PRODID:-//Riksbanken//riksbanken.se//SV
VERSION:2.0
BEGIN:VEVENT
DTSTART:20200624T123000Z
DTSTAMP:20260423T170926Z
UID:ae04c8b4578a4b1f905469f62c107ac5
CREATED:20260423T170926Z
DESCRIPTION:Why so negative? The effect of monetary policy on bank credit supply across the euro area
LAST-MODIFIED:20260423T170926Z
LOCATION:
SEQUENCE:0
STATUS:CONFIRMED
SUMMARY:Web seminar with Diana Bonfim, Banco de Portugal & Católica Lisbon
TRANSP:OPAQUE
END:VEVENT
END:VCALENDAR
