BEGIN:VCALENDAR
PRODID:-//Riksbanken//riksbanken.se//SV
VERSION:2.0
BEGIN:VEVENT
DTSTART:20200901T140000Z
DTSTAMP:20260423T105207Z
UID:bc9a9f08d0054b4383524e63d37a6e22
CREATED:20260423T105207Z
DESCRIPTION:Forward Guidance and Household Expectations
LAST-MODIFIED:20260423T105207Z
LOCATION:
SEQUENCE:0
STATUS:CONFIRMED
SUMMARY:Web seminar with Yuriy Gorodnichenko, University of California, Berkeley
TRANSP:OPAQUE
END:VEVENT
END:VCALENDAR
