BEGIN:VCALENDAR
PRODID:-//Riksbanken//riksbanken.se//SV
VERSION:2.0
BEGIN:VEVENT
DTSTART:20200915T140000Z
DTSTAMP:20260423T105206Z
UID:416f2b010c0942bd89ef45017c95bc08
CREATED:20260423T105206Z
DESCRIPTION:Common Shocks in Stocks and Bonds
LAST-MODIFIED:20260423T105206Z
LOCATION:
SEQUENCE:0
STATUS:CONFIRMED
SUMMARY:Web seminar with Anna Cieslak, Duke University
TRANSP:OPAQUE
END:VEVENT
END:VCALENDAR
