BEGIN:VCALENDAR
PRODID:-//Riksbanken//riksbanken.se//SV
VERSION:2.0
BEGIN:VEVENT
DTSTART:20201020T140000Z
DTSTAMP:20260423T133548Z
UID:28884a342edf48c7b6affbcf30f7e8bc
CREATED:20260423T133548Z
DESCRIPTION:Optimal Monetary Policy According to HANK
LAST-MODIFIED:20260423T133548Z
LOCATION:
SEQUENCE:0
STATUS:CONFIRMED
SUMMARY:Web seminar with Sushant Acharya, Bank of Canada
TRANSP:OPAQUE
END:VEVENT
END:VCALENDAR
