BEGIN:VCALENDAR
PRODID:-//Riksbanken//riksbanken.se//SV
VERSION:2.0
BEGIN:VEVENT
DTSTART:20201006T140000Z
DTSTAMP:20260423T133523Z
UID:b64930902a1c4529b1dfe272252b0e2b
CREATED:20260423T133523Z
DESCRIPTION:Use It or Lose It: Efficiency Gains from Wealth Taxation
LAST-MODIFIED:20260423T133523Z
LOCATION:
SEQUENCE:0
STATUS:CONFIRMED
SUMMARY:Web seminar with Fatih Guvenen, University of Minnesota
TRANSP:OPAQUE
END:VEVENT
END:VCALENDAR
