BEGIN:VCALENDAR
PRODID:-//Riksbanken//riksbanken.se//SV
VERSION:2.0
BEGIN:VEVENT
DTSTART:20201013T140000Z
DTSTAMP:20260423T133548Z
UID:6e71a6883c5f4eb2856ee6c08a61df30
CREATED:20260423T133548Z
DESCRIPTION:A Reconsideration of Money Growth Rules
LAST-MODIFIED:20260423T133548Z
LOCATION:
SEQUENCE:0
STATUS:CONFIRMED
SUMMARY:Web seminar with Peter Ireland, Boston College
TRANSP:OPAQUE
END:VEVENT
END:VCALENDAR
