BEGIN:VCALENDAR
PRODID:-//Riksbanken//riksbanken.se//SV
VERSION:2.0
BEGIN:VEVENT
DTSTART:20201027T150000Z
DTSTAMP:20260423T133549Z
UID:081d6b4616ec47a7885d2f2467c0b8ce
CREATED:20260423T133549Z
DESCRIPTION:Macroeconomic Dynamics and Reallocation in an Epidemic: Evaluating the Swedish Solution
LAST-MODIFIED:20260423T133549Z
LOCATION:
SEQUENCE:0
STATUS:CONFIRMED
SUMMARY:Web seminar with Dirk Krueger, University of Pennsylvania
TRANSP:OPAQUE
END:VEVENT
END:VCALENDAR
