BEGIN:VCALENDAR
PRODID:-//Riksbanken//riksbanken.se//SV
VERSION:2.0
BEGIN:VEVENT
DTSTART:20201208T150000Z
DTSTAMP:20260423T105002Z
UID:5a5381a05be943ffa893cfe90cafd9af
CREATED:20260423T105002Z
DESCRIPTION:Saving, Efficiency and the Nature of Bank Runs
LAST-MODIFIED:20260423T105002Z
LOCATION:
SEQUENCE:0
STATUS:CONFIRMED
SUMMARY:Web seminar with Agnese Leonello, ECB
TRANSP:OPAQUE
END:VEVENT
END:VCALENDAR
