BEGIN:VCALENDAR
PRODID:-//Riksbanken//riksbanken.se//SV
VERSION:2.0
BEGIN:VEVENT
DTSTART:20201215T150000Z
DTSTAMP:20260423T105207Z
UID:9a32cb465ff44161ae5b95759238bb88
CREATED:20260423T105207Z
DESCRIPTION:TBA
LAST-MODIFIED:20260423T105207Z
LOCATION:
SEQUENCE:0
STATUS:CONFIRMED
SUMMARY:Web seminar with Adi Sunderam, Harvard University
TRANSP:OPAQUE
END:VEVENT
END:VCALENDAR
