BEGIN:VCALENDAR
PRODID:-//Riksbanken//riksbanken.se//SV
VERSION:2.0
BEGIN:VEVENT
DTSTART:20200526T090000Z
DTSTAMP:20260423T210441Z
UID:8b2bc3504c834a9e98f94a1a737bb17d
CREATED:20260423T210441Z
DESCRIPTION:TBA
LAST-MODIFIED:20260423T210441Z
LOCATION:
SEQUENCE:0
STATUS:CONFIRMED
SUMMARY:Cancelled! Gabriele Camera, Chapman University
TRANSP:OPAQUE
END:VEVENT
END:VCALENDAR
