BEGIN:VCALENDAR
PRODID:-//Riksbanken//riksbanken.se//SV
VERSION:2.0
BEGIN:VEVENT
DTSTART:20210119T080000Z
DTSTAMP:20260425T182142Z
UID:7b6630c3261143d49de8f0099e67d0f5
CREATED:20260425T182142Z
DESCRIPTION:Estimating Hysteresis Effects
LAST-MODIFIED:20260425T182142Z
LOCATION:
SEQUENCE:0
STATUS:CONFIRMED
SUMMARY:Web seminar with Francesco Furlanetto, Norges Bank
TRANSP:OPAQUE
END:VEVENT
END:VCALENDAR
