BEGIN:VCALENDAR
PRODID:-//Riksbanken//riksbanken.se//SV
VERSION:2.0
BEGIN:VEVENT
DTSTART:20210126T150000Z
DTSTAMP:20260425T182142Z
UID:4d6a6caed6c94294a233c2c2ed287f48
CREATED:20260425T182142Z
DESCRIPTION:The People versus the Markets: A Parsimonious Model of Inflation Expectations
LAST-MODIFIED:20260425T182142Z
LOCATION:
SEQUENCE:0
STATUS:CONFIRMED
SUMMARY:Web seminar with Ricardo Reis, London School of Economics
TRANSP:OPAQUE
END:VEVENT
END:VCALENDAR
