BEGIN:VCALENDAR
PRODID:-//Riksbanken//riksbanken.se//SV
VERSION:2.0
BEGIN:VEVENT
DTSTART:20210223T150000Z
DTSTAMP:20260423T210403Z
UID:d3d7754d3761471fbacdce6f5aa3a5a3
CREATED:20260423T210403Z
DESCRIPTION:TBA
LAST-MODIFIED:20260423T210403Z
LOCATION:
SEQUENCE:0
STATUS:CONFIRMED
SUMMARY:Web seminar with Daniel Sanches, Federal Reserve Bank of Philadelphia
TRANSP:OPAQUE
END:VEVENT
END:VCALENDAR
