BEGIN:VCALENDAR
PRODID:-//Riksbanken//riksbanken.se//SV
VERSION:2.0
BEGIN:VEVENT
DTSTART:20210302T150000Z
DTSTAMP:20260423T212651Z
UID:f99953d002ec4d9f9aabf3a0d6c382c9
CREATED:20260423T212651Z
DESCRIPTION:TBA
LAST-MODIFIED:20260423T212651Z
LOCATION:
SEQUENCE:0
STATUS:CONFIRMED
SUMMARY:Web seminar with Giovanni Peri, UC Davis
TRANSP:OPAQUE
END:VEVENT
END:VCALENDAR
