BEGIN:VCALENDAR
PRODID:-//Riksbanken//riksbanken.se//SV
VERSION:2.0
BEGIN:VEVENT
DTSTART:20210309T080000Z
DTSTAMP:20260423T212716Z
UID:3b7595c10bac4256bef1c14d95b7ec48
CREATED:20260423T212716Z
DESCRIPTION:State dependence of fiscal multipliers: The source of fluctuations matters
LAST-MODIFIED:20260423T212716Z
LOCATION:
SEQUENCE:0
STATUS:CONFIRMED
SUMMARY:Webinar with Francesco Zanetti, Oxford University
TRANSP:OPAQUE
END:VEVENT
END:VCALENDAR
