BEGIN:VCALENDAR
PRODID:-//Riksbanken//riksbanken.se//SV
VERSION:2.0
BEGIN:VEVENT
DTSTART:20210316T150000Z
DTSTAMP:20260423T212650Z
UID:350c7d4e635d4c2ca5bf381921831c1c
CREATED:20260423T212650Z
DESCRIPTION:Macroeconomic Implications of COVID-19: Can Negative Supply Shocks Cause Demand Shortages?
LAST-MODIFIED:20260423T212650Z
LOCATION:
SEQUENCE:0
STATUS:CONFIRMED
SUMMARY:Webinar with Veronica Guerrieri, University of Chicago
TRANSP:OPAQUE
END:VEVENT
END:VCALENDAR
