BEGIN:VCALENDAR
PRODID:-//Riksbanken//riksbanken.se//SV
VERSION:2.0
BEGIN:VEVENT
DTSTART:20210330T090000Z
DTSTAMP:20260423T212651Z
UID:ebded22e8b504a76a2a1ecd05506c968
CREATED:20260423T212651Z
DESCRIPTION:Confronting epidemics: the need for epi-econ IAMs
LAST-MODIFIED:20260423T212651Z
LOCATION:
SEQUENCE:0
STATUS:CONFIRMED
SUMMARY:Webinar with John Hassler, Institute for International Economic Studies, Stockholm University
TRANSP:OPAQUE
END:VEVENT
END:VCALENDAR
