BEGIN:VCALENDAR
PRODID:-//Riksbanken//riksbanken.se//SV
VERSION:2.0
BEGIN:VEVENT
DTSTART:20210405T220000Z
DTSTAMP:20260423T104645Z
UID:3c39f5e1eea24179a20faf20b8122e53
CREATED:20260423T104645Z
DESCRIPTION:Common Components Structural VARs
LAST-MODIFIED:20260423T104645Z
LOCATION:
SEQUENCE:0
STATUS:CONFIRMED
SUMMARY:Webinar with Luca Gambetti, The Autonomous University of Barcelona
TRANSP:OPAQUE
END:VEVENT
END:VCALENDAR
