BEGIN:VCALENDAR
PRODID:-//Riksbanken//riksbanken.se//SV
VERSION:2.0
BEGIN:VEVENT
DTSTART:20210413T140000Z
DTSTAMP:20260423T104732Z
UID:57b3d67541054b019784416471421b0b
CREATED:20260423T104732Z
DESCRIPTION:Mortgage Pricing and Monetary Policy
LAST-MODIFIED:20260423T104732Z
LOCATION:
SEQUENCE:0
STATUS:CONFIRMED
SUMMARY:Webinar with Matteo Benetton, UC Berkeley
TRANSP:OPAQUE
END:VEVENT
END:VCALENDAR
