BEGIN:VCALENDAR
PRODID:-//Riksbanken//riksbanken.se//SV
VERSION:2.0
BEGIN:VEVENT
DTSTART:20210427T070000Z
DTSTAMP:20260423T104733Z
UID:0c4e091d59dc4ccdb9c5bf2454088a3e
CREATED:20260423T104733Z
DESCRIPTION:An Empirical Macro Toolbox
LAST-MODIFIED:20260423T104733Z
LOCATION:
SEQUENCE:0
STATUS:CONFIRMED
SUMMARY:Webinar with Fabio Canova, BI Norwegian Business School
TRANSP:OPAQUE
END:VEVENT
END:VCALENDAR
