BEGIN:VCALENDAR
PRODID:-//Riksbanken//riksbanken.se//SV
VERSION:2.0
BEGIN:VEVENT
DTSTART:20210511T130000Z
DTSTAMP:20260423T104851Z
UID:55335157382c46beb4a2dd5425e34cc6
CREATED:20260423T104851Z
DESCRIPTION:High Frequency Spending Responses to the Earned Income Tax Credit
LAST-MODIFIED:20260423T104851Z
LOCATION:
SEQUENCE:0
STATUS:CONFIRMED
SUMMARY:Webinar with Aditya Aladangady, Federal Reserve Board
TRANSP:OPAQUE
END:VEVENT
END:VCALENDAR
