BEGIN:VCALENDAR
PRODID:-//Riksbanken//riksbanken.se//SV
VERSION:2.0
BEGIN:VEVENT
DTSTART:20210518T090000Z
DTSTAMP:20260423T104850Z
UID:9e50c6eaf9284d3eacc1777999a79292
CREATED:20260423T104850Z
DESCRIPTION:Labor-Market Hysteresis and Persistent Paradox-of-Thrift Recessions
LAST-MODIFIED:20260423T104850Z
LOCATION:
SEQUENCE:0
STATUS:CONFIRMED
SUMMARY:Webinar with Erik Öberg, Uppsala University 
TRANSP:OPAQUE
END:VEVENT
END:VCALENDAR
